BEGIN:VCALENDAR
VERSION:2.0
PRODID:-//ChamberMaster//Event Calendar 2.0//EN
METHOD:PUBLISH
X-PUBLISHED-TTL:P3D
REFRESH-INTERVAL:P3D
CALSCALE:GREGORIAN
BEGIN:VEVENT
DTSTART:20131209T220000Z
DTEND:20131210T000000Z
X-MICROSOFT-CDO-ALLDAYEVENT:FALSE
SUMMARY:Cape Ann Chamber of Commerce Annual Membership Meeting
DESCRIPTION:Join the Chamber and connect with the Board of Directors and Chamber Team\, including the Chamber's new CEO\, Ken Riehl. This meeting will feature a review of the 2013 financials\, a recap the Chamber's 2013 program of work\, membership feedback and questions\, and more!
X-ALT-DESC;FMTTYPE=text/html:<p></p><p>Join the Chamber and connect with the Board of Directors and Chamber Team\, including the Chamber&rsquo\;s new CEO\, Ken Riehl. This meeting will feature a review of the 2013 financials\, a recap the Chamber&rsquo\;s 2013 program of work\, membership feedback and questions\, and more!</p>
LOCATION:Bass Rocks Golf Club 34 Beach Road\, Gloucester\, MA 01930
UID:e.2981.1160
SEQUENCE:3
DTSTAMP:20260420T041453Z
URL:https://visit.rockportusa.com/events/details/cape-ann-chamber-of-commerce-annual-membership-meeting-12-09-2013-1160
END:VEVENT

END:VCALENDAR
