BEGIN:VCALENDAR
VERSION:2.0
PRODID:-//ChamberMaster//Event Calendar 2.0//EN
METHOD:PUBLISH
X-PUBLISHED-TTL:P3D
REFRESH-INTERVAL:P3D
CALSCALE:GREGORIAN
BEGIN:VEVENT
DTSTART:20140807T170000Z
DTEND:20140807T170000Z
X-MICROSOFT-CDO-ALLDAYEVENT:FALSE
SUMMARY:Cape Ann Ceramics Festival
DESCRIPTION:The Cape Ann Ceramics Festival is a month long celebration of the art of ceramics."Contemplation'\, the main exhibit of work by local and world renowned potters\, opens August 7th at the Rocky Neck Cultural Center\, 6 Wonson Street Gloucester\, with a gala reception on August 9th from 4 - 6 pm. There will be a Pottery Trail of 12 studios and galleries open 10 -5 August 16 and 17. Also at the Cultural Center. August 29 - 31\, "The Art of the Possible: All Clay Inclusive" exhibit and sale\, opening reception the 29th from 5 - 8 pm.
X-ALT-DESC;FMTTYPE=text/html:The Cape Ann Ceramics Festival is a month long celebration of the art of ceramics."Contemplation'\, the main exhibit of work by local and world renowned potters\, opens August 7th at the Rocky Neck Cultural Center\, 6 Wonson Street Gloucester\, with a gala reception on August 9th from 4 - 6 pm. There will be a Pottery Trail of 12 studios and galleries open 10 -5 August 16 and 17. Also at the Cultural Center. August 29 - 31\, "The Art of the Possible: All Clay Inclusive" exhibit and sale\, opening reception the 29th from 5 - 8 pm.
LOCATION:Rocky Neck Cultural Center\, Gloucester\, MA 01930 To get to Rocky Neck\, drive northeast on route 128 to Gloucester. Go through two rotaries\, staying on 128. Then go straight\, through two traffic lights\, and up the hill onto East Main Street. Stay on East Main for about a mile\, bearing right at the bottom of the hill\, and follow East Main as it curves around the harbor. Many artists and businesses are located along East Main in the East Gloucester Arts District. Turn right onto Rocky Neck Avenue\, park in the public parking lot\, and explore the many shops and galleries on the Neck.
UID:e.2981.1446
SEQUENCE:3
DTSTAMP:20260419T144457Z
URL:https://visit.rockportusa.com/events/details/cape-ann-ceramics-festival-08-07-2014-1446
END:VEVENT

END:VCALENDAR
