BEGIN:VCALENDAR
VERSION:2.0
PRODID:-//ChamberMaster//Event Calendar 2.0//EN
METHOD:PUBLISH
X-PUBLISHED-TTL:P3D
REFRESH-INTERVAL:P3D
CALSCALE:GREGORIAN
BEGIN:VEVENT
DTSTART:20140822T110000Z
DTEND:20140822T130000Z
X-MICROSOFT-CDO-ALLDAYEVENT:FALSE
SUMMARY:Candidtates Debate- HOLD THE DATE!
DESCRIPTION:Candidates debate for the Sixth District US Congressional seat.Date and Place TBD.Hold the Date!
X-ALT-DESC;FMTTYPE=text/html:<p>Candidates debate for the Sixth District US Congressional seat.</p><p>Date and Place TBD.</p><p>Hold the Date!</p><p></p>
LOCATION:
UID:e.2981.1527
SEQUENCE:3
DTSTAMP:20260419T144235Z
URL:https://visit.rockportusa.com/events/details/candidtates-debate-hold-the-date-08-22-2014-1527
END:VEVENT

END:VCALENDAR
