BEGIN:VCALENDAR
VERSION:2.0
PRODID:-//ChamberMaster//Event Calendar 2.0//EN
METHOD:PUBLISH
X-PUBLISHED-TTL:P3D
REFRESH-INTERVAL:P3D
CALSCALE:GREGORIAN
BEGIN:VEVENT
DTSTART:20140713T000000Z
DTEND:20140713T000000Z
X-MICROSOFT-CDO-ALLDAYEVENT:FALSE
SUMMARY:Calder Quartet
DESCRIPTION:Hailed by the New York Times as ''outstanding…superb\,'' the Calder Quartet defies boundaries by performing a broad range of repertoire.  The program includes works by Beethoven\, Janácek and Smetana.   Tickets: $68/$58/$49
X-ALT-DESC;FMTTYPE=text/html:Hailed by the New York Times as ''outstanding…superb\,'' the Calder Quartet defies boundaries by performing a broad range of repertoire.  The program includes works by Beethoven\, Janácek and Smetana.   Tickets: $68/$58/$49
LOCATION:Shalin Liu Performance Center\, Rockport\, Ma 01966
UID:e.2981.1245
SEQUENCE:3
DTSTAMP:20260419T143912Z
URL:https://visit.rockportusa.com/events/details/calder-quartet-07-12-2014-1245
END:VEVENT

END:VCALENDAR
