BEGIN:VCALENDAR
VERSION:2.0
PRODID:-//ChamberMaster//Event Calendar 2.0//EN
METHOD:PUBLISH
X-PUBLISHED-TTL:P3D
REFRESH-INTERVAL:P3D
CALSCALE:GREGORIAN
BEGIN:VEVENT
DTSTART:20140130T220000Z
DTEND:20140131T000000Z
X-MICROSOFT-CDO-ALLDAYEVENT:FALSE
SUMMARY:Businesswomen's Wine Down Event
DESCRIPTION:Unwind after the holidays at the Cape Ann Chamber of Commerce Businesswomen's Mid-Winter Wine Down. This is a great opportunity for all area businesswomen make new contacts and build on existing connections! Enjoy appetizers\, a complimentary glass of wine and beatuy tips from Soft Touch Color!
X-ALT-DESC;FMTTYPE=text/html:<p></p><p>Unwind after the holidays at the Cape Ann Chamber of Commerce Businesswomen's Mid-Winter Wine Down. This is a great opportunity for all area businesswomen make new contacts and build on existing connections! Enjoy appetizers\, a complimentary&nbsp\;glass of wine and&nbsp\;beatuy tips from&nbsp\;Soft Touch Color!&nbsp\;</p>
LOCATION:Franklin Cape Ann 118 Main Street\, Gloucester\, MA 01930
UID:e.2981.1169
SEQUENCE:3
DTSTAMP:20260420T005116Z
URL:https://visit.rockportusa.com/events/details/businesswomen-s-wine-down-event-01-30-2014-1169
END:VEVENT

END:VCALENDAR
