BEGIN:VCALENDAR
VERSION:2.0
PRODID:-//ChamberMaster//Event Calendar 2.0//EN
METHOD:PUBLISH
X-PUBLISHED-TTL:P3D
REFRESH-INTERVAL:P3D
CALSCALE:GREGORIAN
BEGIN:VEVENT
DTSTART:20130820T210000Z
DTEND:20130821T000000Z
X-MICROSOFT-CDO-ALLDAYEVENT:FALSE
SUMMARY:Businesswomen's Sunset Sail 2013
DESCRIPTION:Join the Businesswomen of Cape Ann for a Sunset Sail aboard the Schooner\nThomas E. Lannon. Relax on the deck of this beautiful 65 foot schooner and\nenjoy an evening picnic while networking with other local businesswomen. Space\nis limited so register early! Pre-registration and payment is required. Cash bar\nwith beer and wine will be available.  Check in will begin at 5:00pm and the boat will leave promptly at 6:00pm.
X-ALT-DESC;FMTTYPE=text/html:Join the Businesswomen of Cape Ann for a Sunset Sail aboard the Schooner\nThomas E. Lannon. Relax on the deck of this beautiful 65 foot schooner and\nenjoy an evening picnic while networking with other local businesswomen. Space\nis limited so register early! Pre-registration and payment is required. Cash bar\nwith beer and wine will be available.  Check in will begin at 5:00pm and the boat will leave promptly at 6:00pm.
LOCATION:63-R Rogers Street\, Gloucester\, MA 01930
UID:e.2981.1027
SEQUENCE:3
DTSTAMP:20260420T104210Z
URL:https://visit.rockportusa.com/events/details/businesswomen-s-sunset-sail-2013-08-20-2013-1027
END:VEVENT

END:VCALENDAR
