BEGIN:VCALENDAR
VERSION:2.0
PRODID:-//ChamberMaster//Event Calendar 2.0//EN
METHOD:PUBLISH
X-PUBLISHED-TTL:P3D
REFRESH-INTERVAL:P3D
CALSCALE:GREGORIAN
BEGIN:VEVENT
DTSTART:20131120T220000Z
DTEND:20131121T000000Z
X-MICROSOFT-CDO-ALLDAYEVENT:FALSE
SUMMARY:Businesswomen's Mixer
DESCRIPTION:Join the Businesswomen of the Cape Ann Chamber of Commerce for a complimentary gathering with hors d'oeuvres and a cash bar at Giuseppe's Ristorante. \n\n\n\nThis complimentary\, open house-style gathering is a fantastic way to network and make connections with fellow businesswomen from all over Cape Ann. Additionally\, the Businesswomen Committee with be collecting donated items to raffle off in support of the Businesswomen's Scholarship fund.
X-ALT-DESC;FMTTYPE=text/html:Join the Businesswomen of the Cape Ann Chamber of Commerce for a complimentary gathering with hors d'oeuvres and a cash bar at Giuseppe's Ristorante. <br />\n<br />\nThis complimentary\, open house-style gathering is a fantastic way to network and make connections with fellow businesswomen from all over Cape Ann. Additionally\, the Businesswomen Committee with be collecting donated items to raffle off in support of the Businesswomen's Scholarship fund. <br />
LOCATION:Giuseppe's Ristorante & Pizza Bar 2 Main Street\, Gloucester\, MA 01930
UID:e.2981.1145
SEQUENCE:3
DTSTAMP:20260420T041342Z
URL:https://visit.rockportusa.com/events/details/businesswomen-s-mixer-11-20-2013-1145
END:VEVENT

END:VCALENDAR
