BEGIN:VCALENDAR
VERSION:2.0
PRODID:-//ChamberMaster//Event Calendar 2.0//EN
METHOD:PUBLISH
X-PUBLISHED-TTL:P3D
REFRESH-INTERVAL:P3D
CALSCALE:GREGORIAN
BEGIN:VEVENT
DTSTART:20140430T210000Z
DTEND:20140430T230000Z
X-MICROSOFT-CDO-ALLDAYEVENT:FALSE
SUMMARY:Business Women's Mixer
DESCRIPTION:
X-ALT-DESC;FMTTYPE=text/html:
LOCATION:Topside Grill & Pub 50 Rogers Street\, Gloucester\, MA 01930
UID:e.2981.1289
SEQUENCE:3
DTSTAMP:20260419T195838Z
URL:https://visit.rockportusa.com/events/details/business-women-s-mixer-04-30-2014-1289
END:VEVENT

END:VCALENDAR
