BEGIN:VCALENDAR
VERSION:2.0
PRODID:-//ChamberMaster//Event Calendar 2.0//EN
METHOD:PUBLISH
X-PUBLISHED-TTL:P3D
REFRESH-INTERVAL:P3D
CALSCALE:GREGORIAN
BEGIN:VEVENT
DTSTART:20140812T220000Z
DTEND:20140813T020000Z
X-MICROSOFT-CDO-ALLDAYEVENT:FALSE
SUMMARY:Business Womans Sunset Sail
DESCRIPTION:Join the Businesswomen  of Cape Ann for a Sunset Sail aboard the Schooner Thomas E. Lannon.  Relax on the deck of this beautiful 65-foot schooner and enjoy an evening picnic while networking with other local business women.Cash bar with beer and wine will be available.
X-ALT-DESC;FMTTYPE=text/html:<p>Join the Businesswomen&nbsp\; of Cape Ann for a Sunset Sail aboard the Schooner Thomas E. Lannon.&nbsp\; Relax on the deck of this beautiful 65-foot schooner and enjoy an evening picnic while networking with other local business women.</p><p>Cash bar with beer and wine will be available.</p>
LOCATION:Schooner Thomas E. Lannon 63-R Rogers Street\, Gloucester\, MA 01930
UID:e.2981.1405
SEQUENCE:3
DTSTAMP:20260419T144312Z
URL:https://visit.rockportusa.com/events/details/business-womans-sunset-sail-08-12-2014-1405
END:VEVENT

END:VCALENDAR
