BEGIN:VCALENDAR
VERSION:2.0
PRODID:-//ChamberMaster//Event Calendar 2.0//EN
METHOD:PUBLISH
X-PUBLISHED-TTL:P3D
REFRESH-INTERVAL:P3D
CALSCALE:GREGORIAN
BEGIN:VEVENT
DTSTART:20130917T210000Z
DTEND:20130917T230000Z
X-MICROSOFT-CDO-ALLDAYEVENT:FALSE
SUMMARY:Business After Hours - Scott Energy
DESCRIPTION:Want to network and make new connections? Do you want to grow your business through referrals? Attend our Business After Hours to mix and mingle with members in a relaxed atmosphere and learn to master the art of networking!  \n   Make new professional connections\n\n   Gain valuable leads and potential new customers\n\n   Find suppliers and service providers\n\n   Access agencies and entities to help your business\n\n   Meet people with purchasing power within their organizations\nBusiness After Hours is the place for business professionals to come together to grow their network and their business by sharing contacts\, referrals and ideas.
X-ALT-DESC;FMTTYPE=text/html:<p>Want to network and make new connections? Do you want to grow your business through referrals? Attend our Business After Hours to mix and mingle with members in a relaxed atmosphere and learn to master the art of networking!&nbsp\; </p>\n<p>&bull\;&nbsp\; Make new professional connections<br />\n&bull\;&nbsp\; Gain valuable leads and potential new customers<br />\n&bull\;&nbsp\; Find suppliers and service providers<br />\n&bull\;&nbsp\; Access agencies and entities to help your business<br />\n&bull\;&nbsp\; Meet people with purchasing power within their organizations</p>\n<p>Business After Hours is the place for business professionals to come together to grow their network and their business by sharing contacts\, referrals and ideas. </p>
LOCATION:43 Gloucester Avenue\, Gloucester\, MA 01930
UID:e.2981.1031
SEQUENCE:3
DTSTAMP:20260420T073547Z
URL:https://visit.rockportusa.com/events/details/business-after-hours-scott-energy-09-17-2013-1031
END:VEVENT

END:VCALENDAR
