BEGIN:VCALENDAR
VERSION:2.0
PRODID:-//ChamberMaster//Event Calendar 2.0//EN
METHOD:PUBLISH
X-PUBLISHED-TTL:P3D
REFRESH-INTERVAL:P3D
CALSCALE:GREGORIAN
BEGIN:VEVENT
DTSTART:20250319T210000Z
DTEND:20250319T230000Z
X-MICROSOFT-CDO-ALLDAYEVENT:FALSE
SUMMARY:Business After Hours - 35 Beach
DESCRIPTION:DOWNLOAD FLYER\n\n\n\nAll are welcome to join us at 35 Beach in Manchester-by-the-Sea for our March  Business After Hours.\n\n\n\nPlease join us for a fun evening of networking and light appetizers. A cash bar will be available. Don't forget to bring your business cards for your chance to win the door prize.\n\n\n\nChamber members are encouraged to bring their team or colleagues\, and if you can't make it\, please send someone on your behalf. \n\n\n\nWe hope to see you there!
X-ALT-DESC;FMTTYPE=text/html:<span style="font-size:18px\;"><span style="font-family:arial\;"><a href="https://chambermaster.blob.core.windows.net/userfiles/UserFiles/chambers/2981/File/BAH-35-beach.pdf">DOWNLOAD FLYER</a><br />\n<br />\nAll are welcome to join us at 35 Beach in Manchester-by-the-Sea for our March&nbsp\; Business After Hours.<br />\n<br />\nPlease join us for a fun evening of networking and light appetizers. A cash bar will be available. Don&#39\;t forget to bring your business cards for your chance to win the door prize.<br />\n<br />\nChamber members are encouraged to bring their team or colleagues\, and if you can&rsquo\;t make it\, please send someone on your behalf.&nbsp\;<br />\n<br />\nWe hope to see you there!</span></span>
LOCATION:35 Beach 35 Beach Street Manchester-by-the-Sea\, MA 01944
UID:e.2981.35009
SEQUENCE:3
DTSTAMP:20260426T014403Z
URL:https://visit.rockportusa.com/events/details/business-after-hours-35-beach-35009
END:VEVENT

END:VCALENDAR
