BEGIN:VCALENDAR
VERSION:2.0
PRODID:-//ChamberMaster//Event Calendar 2.0//EN
METHOD:PUBLISH
X-PUBLISHED-TTL:P3D
REFRESH-INTERVAL:P3D
CALSCALE:GREGORIAN
BEGIN:VEVENT
DTSTART:20131215T200000Z
DTEND:20131215T200000Z
X-MICROSOFT-CDO-ALLDAYEVENT:FALSE
SUMMARY:Bucky Pizzarelli
DESCRIPTION:Jazz guitarist Bucky Pizzarelli has been thrilling audiences with his signature swinging style for close to seven decades. Throughout that time\, Bucky has played with a veritable Who's Who of bandleaders and performers including musical giants like Benny Goodman\, Frank Sinatra\, Stephane Grappelli\, Tony Bennett\, Zoot Sims\, and Les Paul among others. Besides becoming a fixture on the big band circuit and in the studio\, Pizzarelli also took a stint in The Tonight Show Band on The Tonight Show starring Johnny Carson.  Pizzarelli\, known for his masterful chord soloing and extraordinary rhythm\, was also one of the first jazz guitarists to master the seven-string guitar\, employing the extra string for basslines in order to enrich his solo performances and sessions. The 87 year old swing-era icon has fathered equally swinging musicians\, including well-known guitarist/vocalist John Pizzarelli.\nDon't miss a chance to hear one of the few remaining legends of the swing era!   \n\nTickets: $39\, $35\, $25
X-ALT-DESC;FMTTYPE=text/html:Jazz guitarist Bucky Pizzarelli has been thrilling audiences with his signature swinging style for close to seven decades. Throughout that time\, Bucky has played with a veritable Who's Who of bandleaders and performers including musical giants like Benny Goodman\, Frank Sinatra\, Stephane Grappelli\, Tony Bennett\, Zoot Sims\, and Les Paul among others. Besides becoming a fixture on the big band circuit and in the studio\, Pizzarelli also took a stint in The Tonight Show Band on The Tonight Show starring Johnny Carson.  Pizzarelli\, known for his masterful chord soloing and extraordinary rhythm\, was also one of the first jazz guitarists to master the seven-string guitar\, employing the extra string for basslines in order to enrich his solo performances and sessions. The 87 year old swing-era icon has fathered equally swinging musicians\, including well-known guitarist/vocalist John Pizzarelli.\nDon't miss a chance to hear one of the few remaining legends of the swing era!   \n\nTickets: $39\, $35\, $25
LOCATION:37 Main Street\, Rockport\, Ma 01966 Shalin Liu Performance Center 37 Main Street Rockport\, MA 01966 DIRECTIONS Travelling by Car Rockport is 45 miles from downtown Boston. Drive north on Route 128 (through two rotaries) to the traffic light in Gloucester. At the traffic light\, turn left onto Route 127. Drive 4 miles to Rockport. Continue through “Five Corners” onto Route 127A (Broadway) toward the harbor. It’s a slight vere to the right. At the stop sign at Mt. Pleasant Street (lighthouse in median)\, turn left and then bear left onto Main Street. The Shalin Liu Performance Center is on the right at 37 Main Street. Travelling by Train Rockport is accessible by commuter rail from Boston and other Northshore towns. The commuter rail originates from North Station on the Green line in Boston. The train station is ½ mile walk to the concert hall.
UID:e.2981.1125
SEQUENCE:3
DTSTAMP:20260420T023417Z
URL:https://visit.rockportusa.com/events/details/bucky-pizzarelli-12-15-2013-1125
END:VEVENT

END:VCALENDAR
