BEGIN:VCALENDAR
VERSION:2.0
PRODID:-//ChamberMaster//Event Calendar 2.0//EN
METHOD:PUBLISH
X-PUBLISHED-TTL:P3D
REFRESH-INTERVAL:P3D
CALSCALE:GREGORIAN
BEGIN:VEVENT
DTSTART:20130926T220000Z
DTEND:20130927T000000Z
X-MICROSOFT-CDO-ALLDAYEVENT:FALSE
SUMMARY:Brilliant Beauport
DESCRIPTION:Enjoy a leisurely evening at the Beauport when the house truly comes alive. Henry Davis Sleeper's spectacular array of lighting devices illuminates the interior with a warm and captivating glow. See the rooms sparkle as Sleeper intended.
X-ALT-DESC;FMTTYPE=text/html: Enjoy a leisurely evening at the Beauport when the house truly comes alive. Henry Davis Sleeper's spectacular array of lighting devices illuminates the interior with a warm and captivating glow. See the rooms sparkle as Sleeper intended. \n
LOCATION:75 Eastern Point Blvd.\, Gloucester\, MA 01930 Beauport is located at 75 Eastern Point Blvd in East Gloucester.
UID:e.2981.1118
SEQUENCE:3
DTSTAMP:20260420T073236Z
URL:https://visit.rockportusa.com/events/details/brilliant-beauport-09-26-2013-1118
END:VEVENT

END:VCALENDAR
