BEGIN:VCALENDAR
VERSION:2.0
PRODID:-//ChamberMaster//Event Calendar 2.0//EN
METHOD:PUBLISH
X-PUBLISHED-TTL:P3D
REFRESH-INTERVAL:P3D
CALSCALE:GREGORIAN
BEGIN:VEVENT
DTSTART:20140629T000000Z
DTEND:20140629T000000Z
X-MICROSOFT-CDO-ALLDAYEVENT:FALSE
SUMMARY:Boston Symphony Chamber Players
DESCRIPTION:Consisting of the BSO's principal players\, the Boston Symphony Chamber Players is one of the world's most distinguished chamber ensembles.  Their program will feature the great Schubert Octet and a newly commissioned work by Yehudi Wyner celebrating the 50th anniversary of the ensemble. Tickets: $85/$75/$55
X-ALT-DESC;FMTTYPE=text/html:Consisting of the BSO's principal players\, the Boston Symphony Chamber Players is one of the world's most distinguished chamber ensembles.  Their program will feature the great Schubert Octet and a newly commissioned work by Yehudi Wyner celebrating the 50th anniversary of the ensemble. Tickets: $85/$75/$55
LOCATION:Shalin Liu Performance Center\, Rockport\, Ma 01966
UID:e.2981.1240
SEQUENCE:3
DTSTAMP:20260419T181923Z
URL:https://visit.rockportusa.com/events/details/boston-symphony-chamber-players-06-28-2014-1240
END:VEVENT

END:VCALENDAR
