BEGIN:VCALENDAR
VERSION:2.0
PRODID:-//ChamberMaster//Event Calendar 2.0//EN
METHOD:PUBLISH
X-PUBLISHED-TTL:P3D
REFRESH-INTERVAL:P3D
CALSCALE:GREGORIAN
BEGIN:VEVENT
DTSTART:20140710T230000Z
DTEND:20140710T230000Z
X-MICROSOFT-CDO-ALLDAYEVENT:FALSE
SUMMARY:BOSTON LOBSTERS vs SPRINGFIELD LASERS
DESCRIPTION:Boston Lobsters vs. Springfield Lasers\, presented by Sheraton Colonial Boston North Hotel & Conference Center. Tracy Austin!July 10\, 2014 7:00 PM \nDoor Open: 5:00 PMTICKET PRICES CURRENTLY AVAILABLE\nADULT: $65.00 / $35.00\nJUNIOR - 12 & UNDER: $65.00 / $15.00\nADULT + VIP: $80.00 / $50.00\nJUNIOR + VIP - 12 & UNDER: $80.00 / $30.00\n\nTICKET SALE DATES\nADULT / JUNIOR - 12 & UNDER / ADULT + VIP / JUNIOR + VIP - 12 & UNDER: Tickets on sale from May 29\, 2014 5:34 PM EDT to Jul 10\, 2014 7:00 PM EDT\nADULT / JUNIOR - 12 & UNDER / ADULT + VIP / JUNIOR + VIP - 12 & UNDER: Tickets on sale from Jun 4\, 2014 12:22 PM EDT to Jul 10\, 2014 7:00 PM EDT
X-ALT-DESC;FMTTYPE=text/html:<h1 itemprop="name" style="margin:0px\;color:#333333\;text-transform:none\;text-indent:0px\;letter-spacing:normal\;font-family:Arial\, sans-serif\;font-size:1.6em\;font-style:normal\;font-variant:normal\;font-weight:normal\;word-spacing:0px\;white-space:normal\;background-color:#ffffff\;-webkit-text-stroke-width:0px\;">Boston Lobsters vs. Springfield Lasers\, presented by Sheraton Colonial Boston North Hotel &amp\; Conference Center. Tracy Austin!</h1><div class="location" itemprop="location" itemscope="" itemtype="http://schema.org/Place" style="font:14px/19.6px Arial\, sans-serif\;color:#333333\;text-transform:none\;text-indent:0px\;letter-spacing:normal\;margin-top:0.5em\;word-spacing:0px\;white-space:normal\;background-color:#ffffff\;-webkit-text-stroke-width:0px\;"><h2 style="margin:0px 0px 0.5em\;color:#333333\;font-size:1em\;font-weight:normal\;"><a href="http://www.etix.com/ticket/online/venueSearch.jsp?venue_id=2545&performance_id=1821068&language=en&country=US"><span itemprop="name">Boston Lobsters Tennis Center at the MAC</span></a></h2></div><p class="time" style="font:14px/19.6px Arial\, sans-serif\;margin:0.5em 0px\;color:#333333\;text-transform:none\;text-indent:0px\;letter-spacing:normal\;word-spacing:0px\;white-space:normal\;background-color:#ffffff\;-webkit-text-stroke-width:0px\;">July 10\, 2014 7:00 PM<span class="Apple-converted-space">&nbsp\;</span><br />Door Open: 5:00 PM</p><p class="time" style="font:14px/19.6px Arial\, sans-serif\;margin:0.5em 0px\;color:#333333\;text-transform:none\;text-indent:0px\;letter-spacing:normal\;word-spacing:0px\;white-space:normal\;background-color:#ffffff\;-webkit-text-stroke-width:0px\;"><span style="font:11px/15.39px Arial\, sans-serif\;color:#333333\;text-transform:none\;text-indent:0px\;letter-spacing:normal\;word-spacing:0px\;float:none\;display:inline !important\;white-space:normal\;background-color:#f3f3f3\;-webkit-text-stroke-width:0px\;">TICKET PRICES CURRENTLY AVAILABLE</span><br style="font:11px/15.39px Arial\, sans-serif\;color:#333333\;text-transform:none\;text-indent:0px\;letter-spacing:normal\;word-spacing:0px\;white-space:normal\;-webkit-text-stroke-width:0px\;" /><span style="font:11px/15.39px Arial\, sans-serif\;color:#333333\;text-transform:none\;text-indent:0px\;letter-spacing:normal\;word-spacing:0px\;float:none\;display:inline !important\;white-space:normal\;background-color:#f3f3f3\;-webkit-text-stroke-width:0px\;">ADULT: $65.00 / $35.00</span><br style="font:11px/15.39px Arial\, sans-serif\;color:#333333\;text-transform:none\;text-indent:0px\;letter-spacing:normal\;word-spacing:0px\;white-space:normal\;-webkit-text-stroke-width:0px\;" /><span style="font:11px/15.39px Arial\, sans-serif\;color:#333333\;text-transform:none\;text-indent:0px\;letter-spacing:normal\;word-spacing:0px\;float:none\;display:inline !important\;white-space:normal\;background-color:#f3f3f3\;-webkit-text-stroke-width:0px\;">JUNIOR - 12 &amp\; UNDER: $65.00 / $15.00</span><br style="font:11px/15.39px Arial\, sans-serif\;color:#333333\;text-transform:none\;text-indent:0px\;letter-spacing:normal\;word-spacing:0px\;white-space:normal\;-webkit-text-stroke-width:0px\;" /><span style="font:11px/15.39px Arial\, sans-serif\;color:#333333\;text-transform:none\;text-indent:0px\;letter-spacing:normal\;word-spacing:0px\;float:none\;display:inline !important\;white-space:normal\;background-color:#f3f3f3\;-webkit-text-stroke-width:0px\;">ADULT + VIP: $80.00 / $50.00</span><br style="font:11px/15.39px Arial\, sans-serif\;color:#333333\;text-transform:none\;text-indent:0px\;letter-spacing:normal\;word-spacing:0px\;white-space:normal\;-webkit-text-stroke-width:0px\;" /><span style="font:11px/15.39px Arial\, sans-serif\;color:#333333\;text-transform:none\;text-indent:0px\;letter-spacing:normal\;word-spacing:0px\;float:none\;display:inline !important\;white-space:normal\;background-color:#f3f3f3\;-webkit-text-stroke-width:0px\;">JUNIOR + VIP - 12 &amp\; UNDER: $80.00 / $30.00</span><br style="font:11px/15.39px Arial\, sans-serif\;color:#333333\;text-transform:none\;text-indent:0px\;letter-spacing:normal\;word-spacing:0px\;white-space:normal\;-webkit-text-stroke-width:0px\;" /><br style="font:11px/15.39px Arial\, sans-serif\;color:#333333\;text-transform:none\;text-indent:0px\;letter-spacing:normal\;word-spacing:0px\;white-space:normal\;-webkit-text-stroke-width:0px\;" /><span style="font:11px/15.39px Arial\, sans-serif\;color:#333333\;text-transform:none\;text-indent:0px\;letter-spacing:normal\;word-spacing:0px\;float:none\;display:inline !important\;white-space:normal\;background-color:#f3f3f3\;-webkit-text-stroke-width:0px\;">TICKET SALE DATES</span><br style="font:11px/15.39px Arial\, sans-serif\;color:#333333\;text-transform:none\;text-indent:0px\;letter-spacing:normal\;word-spacing:0px\;white-space:normal\;-webkit-text-stroke-width:0px\;" /><span style="font:11px/15.39px Arial\, sans-serif\;color:#333333\;text-transform:none\;text-indent:0px\;letter-spacing:normal\;word-spacing:0px\;float:none\;display:inline !important\;white-space:normal\;background-color:#f3f3f3\;-webkit-text-stroke-width:0px\;">ADULT / JUNIOR - 12 &amp\; UNDER / ADULT + VIP / JUNIOR + VIP - 12 &amp\; UNDER: Tickets on sale from May 29\, 2014 5:34 PM EDT to Jul 10\, 2014 7:00 PM EDT</span><br style="font:11px/15.39px Arial\, sans-serif\;color:#333333\;text-transform:none\;text-indent:0px\;letter-spacing:normal\;word-spacing:0px\;white-space:normal\;-webkit-text-stroke-width:0px\;" /><span style="font:11px/15.39px Arial\, sans-serif\;color:#333333\;text-transform:none\;text-indent:0px\;letter-spacing:normal\;word-spacing:0px\;float:none\;display:inline !important\;white-space:normal\;background-color:#f3f3f3\;-webkit-text-stroke-width:0px\;">ADULT / JUNIOR - 12 &amp\; UNDER / ADULT + VIP / JUNIOR + VIP - 12 &amp\; UNDER: Tickets on sale from Jun 4\, 2014 12:22 PM EDT to Jul 10\, 2014 7:00 PM EDT</span></p>
LOCATION:
UID:e.2981.1416
SEQUENCE:3
DTSTAMP:20260419T162624Z
URL:https://visit.rockportusa.com/events/details/boston-lobsters-vs-springfield-lasers-07-10-2014-1416
END:VEVENT

END:VCALENDAR
