BEGIN:VCALENDAR
VERSION:2.0
PRODID:-//ChamberMaster//Event Calendar 2.0//EN
METHOD:PUBLISH
X-PUBLISHED-TTL:P3D
REFRESH-INTERVAL:P3D
CALSCALE:GREGORIAN
BEGIN:VEVENT
DTSTART:20140613T000000Z
DTEND:20140613T000000Z
X-MICROSOFT-CDO-ALLDAYEVENT:FALSE
SUMMARY:Borromeo Quartet & Laurence Lesser\, cello
DESCRIPTION:Considered ''simply the best there is'' by the Boston Globe\, the critically acclaimed Borromeo Quartet is joined by cellist Laurence Lesser for a program of Ravel\, Bartok and Schubert's Quintet. Tickets: $65/$55/$45
X-ALT-DESC;FMTTYPE=text/html:Considered ''simply the best there is'' by the Boston Globe\, the critically acclaimed Borromeo Quartet is joined by cellist Laurence Lesser for a program of Ravel\, Bartok and Schubert's Quintet. Tickets: $65/$55/$45
LOCATION:Shalin Liu Performance Center\, Rockport\, Ma 01966
UID:e.2981.1239
SEQUENCE:3
DTSTAMP:20260419T182027Z
URL:https://visit.rockportusa.com/events/details/borromeo-quartet-laurence-lesser-cello-06-12-2014-1239
END:VEVENT

END:VCALENDAR
