BEGIN:VCALENDAR
VERSION:2.0
PRODID:-//ChamberMaster//Event Calendar 2.0//EN
METHOD:PUBLISH
X-PUBLISHED-TTL:P3D
REFRESH-INTERVAL:P3D
CALSCALE:GREGORIAN
BEGIN:VEVENT
DTSTART:20131129T110000Z
DTEND:20131129T230000Z
X-MICROSOFT-CDO-ALLDAYEVENT:FALSE
SUMMARY:Black Friday
DESCRIPTION:Don't like crowds or grumpy shop employees? Want a "home town" shopping experience? Come to downtown Gloucester on Friday\, November 29th and enjoy a small town shopping extravaganza- complete with drawings\, giveaways\, sales and smiles!! Each shop does it's own thing\, but all participating stores will be open at at 6AM just for you! Come and join us and have some fun while you kick-start (or finish!) your Holiday Shopping!
X-ALT-DESC;FMTTYPE=text/html:Don't like crowds or grumpy shop employees? Want a "home town" shopping experience? Come to downtown Gloucester on Friday\, November 29th and enjoy a small town shopping extravaganza- complete with drawings\, giveaways\, sales and smiles!! Each shop does it's own thing\, but all participating stores will be open at at 6AM just for you! Come and join us and have some fun while you kick-start (or finish!) your Holiday Shopping!
LOCATION:Main Street\, Gloucester \, MA 01930 Downtown Gloucester MA 01930
UID:e.2981.1139
SEQUENCE:3
DTSTAMP:20260420T054738Z
URL:https://visit.rockportusa.com/events/details/black-friday-11-29-2013-1139
END:VEVENT

END:VCALENDAR
