BEGIN:VCALENDAR
VERSION:2.0
PRODID:-//ChamberMaster//Event Calendar 2.0//EN
METHOD:PUBLISH
X-PUBLISHED-TTL:P3D
REFRESH-INTERVAL:P3D
CALSCALE:GREGORIAN
BEGIN:VEVENT
DTSTART:20140731T210000Z
DTEND:20140731T230000Z
X-MICROSOFT-CDO-ALLDAYEVENT:FALSE
SUMMARY:BEACH STREET STUDIOS PREVIEW PARTY
DESCRIPTION:It's about time we had a party and what better way to celebrate than with "Cool Drinks" and "Cool People". We have created lots of new work for the Festival by-the-Sea and we are offering some great deals.
X-ALT-DESC;FMTTYPE=text/html:It&rsquo\;s about time we had a party and what better way to celebrate than with &ldquo\;Cool Drinks&rdquo\; and &ldquo\;Cool People&rdquo\;. We have created lots of new work for the Festival by-the-Sea and we are offering some great deals.
LOCATION:Beach Street Studios 33 Beach Street\, Manchester-by-the-Sea\, MA 01944
UID:e.2981.1437
SEQUENCE:3
DTSTAMP:20260419T162649Z
URL:https://visit.rockportusa.com/events/details/beach-street-studios-preview-party-07-31-2014-1437
END:VEVENT

END:VCALENDAR
