BEGIN:VCALENDAR
VERSION:2.0
PRODID:-//ChamberMaster//Event Calendar 2.0//EN
METHOD:PUBLISH
X-PUBLISHED-TTL:P3D
REFRESH-INTERVAL:P3D
CALSCALE:GREGORIAN
BEGIN:VEVENT
DTSTART:20140802T140000Z
DTEND:20140802T210000Z
X-MICROSOFT-CDO-ALLDAYEVENT:FALSE
SUMMARY:Beach Street Studios Art Display and Sale
DESCRIPTION:On Saturday\, August 2nd\, the 2014 Festival by-the-Sea will take place in downtown Manchester. The Beach Street Studio artists will have a large display of artwork for sale at our sidewalk booth in front of the studio as well as upstairs in our air-conditioned working space. Stop by and see us! We will be there from 10AM to 5PM.
X-ALT-DESC;FMTTYPE=text/html:<p>On Saturday\, August 2nd\, the 2014 Festival by-the-Sea will take place in downtown Manchester. The Beach Street Studio artists will have a large display of artwork for sale at our sidewalk booth in front of the studio as well as upstairs in our air-conditioned working space. </p><p>Stop by and see us! We will be there from 10AM to 5PM. </p>
LOCATION:Beach Street Studios 33 Beach Street\, Manchester-by-the-Sea\, MA 01944
UID:e.2981.1438
SEQUENCE:3
DTSTAMP:20260419T130738Z
URL:https://visit.rockportusa.com/events/details/beach-street-studios-art-display-and-sale-08-02-2014-1438
END:VEVENT

END:VCALENDAR
