BEGIN:VCALENDAR
VERSION:2.0
PRODID:-//ChamberMaster//Event Calendar 2.0//EN
METHOD:PUBLISH
X-PUBLISHED-TTL:P3D
REFRESH-INTERVAL:P3D
CALSCALE:GREGORIAN
BEGIN:VEVENT
DTSTART:20130928T170000Z
DTEND:20131009T210000Z
X-MICROSOFT-CDO-ALLDAYEVENT:FALSE
SUMMARY:Barbara Donnelly Solo Art Show ''Afloat...''
DESCRIPTION:Barbara Donnelly invites you to a world "Afloat..."   Watercolor\, oil and gouache paintings of Cape Ann\, New England and waters of the world.\nArtist Reception - Sunday\, September 29 from 2 to 4pm.\nDaily hours: Sunday 12 - 5\, Mon - Sat 10 - 5
X-ALT-DESC;FMTTYPE=text/html:Barbara Donnelly invites you to a world "Afloat..."   Watercolor\, oil and gouache paintings of Cape Ann\, New England and waters of the world.\nArtist Reception - Sunday\, September 29 from 2 to 4pm.\nDaily hours: Sunday 12 - 5\, Mon - Sat 10 - 5
LOCATION:12 Main Street\, Rockport\, MA 01966 Rockport Art Association
UID:e.2981.1121
SEQUENCE:3
DTSTAMP:20260420T055216Z
URL:https://visit.rockportusa.com/events/details/barbara-donnelly-solo-art-show-afloat-09-28-2013-1121
END:VEVENT

END:VCALENDAR
