BEGIN:VCALENDAR
VERSION:2.0
PRODID:-//ChamberMaster//Event Calendar 2.0//EN
METHOD:PUBLISH
X-PUBLISHED-TTL:P3D
REFRESH-INTERVAL:P3D
CALSCALE:GREGORIAN
BEGIN:VEVENT
DTSTART:20140830T220000Z
DTEND:20140831T000000Z
X-MICROSOFT-CDO-ALLDAYEVENT:FALSE
SUMMARY:''Artists and The Cape Ann Experience'' Exhibition
DESCRIPTION:Gala Reception for "Artists and The Cape Ann Experience".  Food and Wine.  OPEN FREE TO THE PUBLIC\n\nThis is a Museum Quality art exhibition of over 150 works of our most recognized and beloved\nAmerican Impressionists of The Cape Ann School.  This is a unique opportunity to view important\nart works from the collections of major American art collectors in the largest and most diverse group\nof masterworks presented by the North Shore Art Association.  This Exhibit represents Cape Ann's\ncontribution to our local and national artistic heritage.
X-ALT-DESC;FMTTYPE=text/html:Gala Reception for "Artists and The Cape Ann Experience".  Food and Wine.  OPEN FREE TO THE PUBLIC\n\nThis is a Museum Quality art exhibition of over 150 works of our most recognized and beloved\nAmerican Impressionists of The Cape Ann School.  This is a unique opportunity to view important\nart works from the collections of major American art collectors in the largest and most diverse group\nof masterworks presented by the North Shore Art Association.  This Exhibit represents Cape Ann's\ncontribution to our local and national artistic heritage.
LOCATION:11 Pirates Lane\, Gloucester\, MA 01966 East Gloucester\, MA
UID:e.2981.1485
SEQUENCE:3
DTSTAMP:20260419T130732Z
URL:https://visit.rockportusa.com/events/details/artists-and-the-cape-ann-experience-exhibition-08-30-2014-1485
END:VEVENT

END:VCALENDAR
