BEGIN:VCALENDAR
VERSION:2.0
PRODID:-//ChamberMaster//Event Calendar 2.0//EN
METHOD:PUBLISH
X-PUBLISHED-TTL:P3D
REFRESH-INTERVAL:P3D
CALSCALE:GREGORIAN
BEGIN:VEVENT
DTSTART:20140430T113000Z
DTEND:20140430T130000Z
X-MICROSOFT-CDO-ALLDAYEVENT:FALSE
SUMMARY:April Coffee & Connections
DESCRIPTION:The Cape Ann Chamber of Commerce's Ambassador Committee invites you join us at Coffee & Connections to renew your connections with fellow members and become better acquainted and engaged with the Chamber.\n \nOnly have 10 minutes? Feel free to stop by and grab a cup of coffee! This open house-style event accommodates all schedules. Stay for 30 minutes\, an hour or more!  The choice is yours!\n \nBoard members\, committee chairs and your Chamber Team will also be present to welcome you and answer any questions you may have. Jump start your morning while maximizing the value of your membership. \n\nComplimentary event. RSVP Required.
X-ALT-DESC;FMTTYPE=text/html:<p></p><p>The Cape Ann Chamber of Commerce's Ambassador Committee invites you join us at&nbsp\;Coffee &amp\; Connections to&nbsp\;renew your connections with fellow members and become better acquainted and engaged with the Chamber.<br />&nbsp\;<br />Only have 10 minutes? Feel free to stop by and grab a cup of coffee! This open house-style event accommodates all schedules. Stay for 30 minutes\, an hour or more!&nbsp\; The choice is yours!<br />&nbsp\;<br />Board members\, committee chairs and your Chamber Team will also be present to welcome you and answer any questions you may have. Jump start your morning while maximizing the value of your membership. <br /><br />Complimentary event. RSVP Required. </p>
LOCATION:Endicott College 33 Commercial Street\, Gloucester\, MA 01930
UID:e.2981.1283
SEQUENCE:3
DTSTAMP:20260419T195547Z
URL:https://visit.rockportusa.com/events/details/april-coffee-connections-04-30-2014-1283
END:VEVENT

END:VCALENDAR
