BEGIN:VCALENDAR
VERSION:2.0
PRODID:-//ChamberMaster//Event Calendar 2.0//EN
METHOD:PUBLISH
X-PUBLISHED-TTL:P3D
REFRESH-INTERVAL:P3D
CALSCALE:GREGORIAN
BEGIN:VEVENT
DTSTART:20140809T000000Z
DTEND:20140809T000000Z
X-MICROSOFT-CDO-ALLDAYEVENT:FALSE
SUMMARY:Anthony de Mare - Liaisons:Re-imagining Sondheim from the Piano
DESCRIPTION:Anthony de Mare is widely recognized as one of the world's most versatile pianists.  His recording Liaisons was hailed by The New York Times as ''dynamic and stylish.''  The project showcases Sondheim's genius with solo piano compositions by 36 different contemporary composers of his most famous works. Tickets: $52/$41/$31
X-ALT-DESC;FMTTYPE=text/html:Anthony de Mare is widely recognized as one of the world's most versatile pianists.  His recording Liaisons was hailed by The New York Times as ''dynamic and stylish.''  The project showcases Sondheim's genius with solo piano compositions by 36 different contemporary composers of his most famous works. Tickets: $52/$41/$31
LOCATION:Shalin Liu Performance Center\, Rockport\, Ma 01966
UID:e.2981.1235
SEQUENCE:3
DTSTAMP:20260419T130858Z
URL:https://visit.rockportusa.com/events/details/anthony-de-mare-liaisons-re-imagining-sondheim-from-the-piano-08-08-2014-1235
END:VEVENT

END:VCALENDAR
