BEGIN:VCALENDAR
VERSION:2.0
PRODID:-//ChamberMaster//Event Calendar 2.0//EN
METHOD:PUBLISH
X-PUBLISHED-TTL:P3D
REFRESH-INTERVAL:P3D
CALSCALE:GREGORIAN
BEGIN:VEVENT
DTSTART:20140418T000000Z
DTEND:20140418T000000Z
X-MICROSOFT-CDO-ALLDAYEVENT:FALSE
SUMMARY:An Evening with Jon Anderson—The Voice of YES
DESCRIPTION:The former lead singer and creative force behind the group YES\, Jon Anderson stands as one of the most recognizable voices in progressive rock. His distinctive high tenor remained a fixture on mainstream rock radio for decades\, fronting the band's biggest hits throughout the 70's and 80's including ''I've Seen All Good People\,'' ''Roundabout\,'' and ''Owner of a Lonely Heart.'' He was also primarily responsible for many of the band's epic pieces like ''Close to the Edge\,'' ''Awaken'' and ''The Gates of Delirium.'' Since parting ways with YES\, Anderson has continued his idiosyncratic musical path\, touring and releasing solo records while delving into folk and world music.
X-ALT-DESC;FMTTYPE=text/html:\n\nThe former lead singer and creative force behind the group YES\, Jon Anderson stands as one of the most recognizable voices in progressive rock. His distinctive high tenor remained a fixture on mainstream rock radio for decades\, fronting the band's biggest hits throughout the 70's and 80's including ''I've Seen All Good People\,'' ''Roundabout\,'' and ''Owner of a Lonely Heart.'' He was also primarily responsible for many of the band's epic pieces like ''Close to the Edge\,'' ''Awaken'' and ''The Gates of Delirium.'' Since parting ways with YES\, Anderson has continued his idiosyncratic musical path\, touring and releasing solo records while delving into folk and world music. \n
LOCATION:Shalin Liu Performance Center\, Rockport\, MA 01966 Travelling by Car Rockport is 45 miles from downtown Boston. Drive north on Route 128 (through two rotaries) to the traffic light in Gloucester. At the traffic light\, turn left onto Route 127. Drive 4 miles to Rockport. Continue through “Five Corners” onto Route 127A (Broadway) toward the harbor. It’s a slight vere to the right. At the stop sign at Mt. Pleasant Street (lighthouse in median)\, turn left and then bear left onto Main Street. The Shalin Liu Performance Center is on the right at 37 Main Street. Travelling by Train Rockport is accessible by commuter rail from Boston and other Northshore towns. The commuter rail originates from North Station on the Green line in Boston. The train station is ½ mile walk to the concert hall.
UID:e.2981.1171
SEQUENCE:3
DTSTAMP:20260419T214903Z
URL:https://visit.rockportusa.com/events/details/an-evening-with-jon-anderson-the-voice-of-yes-04-17-2014-1171
END:VEVENT

END:VCALENDAR
