BEGIN:VCALENDAR
VERSION:2.0
PRODID:-//ChamberMaster//Event Calendar 2.0//EN
METHOD:PUBLISH
X-PUBLISHED-TTL:P3D
REFRESH-INTERVAL:P3D
CALSCALE:GREGORIAN
BEGIN:VEVENT
DTSTART:20140406T210000Z
DTEND:20140406T210000Z
X-MICROSOFT-CDO-ALLDAYEVENT:FALSE
SUMMARY:An Evening of Roots Americana with Annalivia and Ari & Mia
DESCRIPTION:Annalivia is a New England-based string-band drawing from tradition and today to create their own brand of new acoustic folk music\, alive with new energy and innovation. The members of Annalivia – Liz Simmons\, Flynn Cohen\, and newest member Emerald Rae - are all masterful players and have long histories with traditional music\, ranging from bluegrass to Irish\, Scottish and Old Time Appalachian music. This background\, combined with each member's stellar compositional skills and cutting edge arranging chops\, makes for music which sounds rooted yet contemporary. Folk and string-band enthusiasts alike will be drawn in by the expert vocals and \, excellent musicianship and innovative approach. The members of Annalivia have toured and performed with a who's who of roots music including the likes of Darol Anger\, Ruth Moody\, Cathie Ryan\, John Whelan\, Aoife Clancy and Adrienne Young\, among others.\n\n"An energy that can only be described as contagious. \nIn a word: charming."\nThe Noise (Boston)
X-ALT-DESC;FMTTYPE=text/html:\nAnnalivia is a New England-based string-band drawing from tradition and today to create their own brand of new acoustic folk music\, alive with new energy and innovation. The members of Annalivia – Liz Simmons\, Flynn Cohen\, and newest member Emerald Rae - are all masterful players and have long histories with traditional music\, ranging from bluegrass to Irish\, Scottish and Old Time Appalachian music. This background\, combined with each member's stellar compositional skills and cutting edge arranging chops\, makes for music which sounds rooted yet contemporary. Folk and string-band enthusiasts alike will be drawn in by the expert vocals and \, excellent musicianship and innovative approach. The members of Annalivia have toured and performed with a who's who of roots music including the likes of Darol Anger\, Ruth Moody\, Cathie Ryan\, John Whelan\, Aoife Clancy and Adrienne Young\, among others.\n\n"An energy that can only be described as contagious. \nIn a word: charming."\nThe Noise (Boston)\n
LOCATION:Shalin Liu Performance Center\, Rockport\, MA 01966 Travelling by Car Rockport is 45 miles from downtown Boston. Drive north on Route 128 (through two rotaries) to the traffic light in Gloucester. At the traffic light\, turn left onto Route 127. Drive 4 miles to Rockport. Continue through “Five Corners” onto Route 127A (Broadway) toward the harbor. It’s a slight vere to the right. At the stop sign at Mt. Pleasant Street (lighthouse in median)\, turn left and then bear left onto Main Street. The Shalin Liu Performance Center is on the right at 37 Main Street. Travelling by Train Rockport is accessible by commuter rail from Boston and other Northshore towns. The commuter rail originates from North Station on the Green line in Boston. The train station is ½ mile walk to the concert hall.
UID:e.2981.1172
SEQUENCE:3
DTSTAMP:20260419T201850Z
URL:https://visit.rockportusa.com/events/details/an-evening-of-roots-americana-with-annalivia-and-ari-mia-04-06-2014-1172
END:VEVENT

END:VCALENDAR
