BEGIN:VCALENDAR
VERSION:2.0
PRODID:-//ChamberMaster//Event Calendar 2.0//EN
METHOD:PUBLISH
X-PUBLISHED-TTL:P3D
REFRESH-INTERVAL:P3D
CALSCALE:GREGORIAN
BEGIN:VEVENT
DTSTART:20140814T000000Z
DTEND:20140814T000000Z
X-MICROSOFT-CDO-ALLDAYEVENT:FALSE
SUMMARY:Ali Jackson
DESCRIPTION:A drummer of unique versatility with a deeply passionate style\, Ali Jackson honors the revered roots of jazz drumming while also carrying the tradition into new progressive directions. Jackson has been the rhythmic backbone of the acclaimed Jazz at Lincoln Center Orchestra with Wynton Marsalis for eight years. Tickets: $46/$38/$28
X-ALT-DESC;FMTTYPE=text/html:A drummer of unique versatility with a deeply passionate style\, Ali Jackson honors the revered roots of jazz drumming while also carrying the tradition into new progressive directions. Jackson has been the rhythmic backbone of the acclaimed Jazz at Lincoln Center Orchestra with Wynton Marsalis for eight years. Tickets: $46/$38/$28
LOCATION:Shalin Liu Performance Center\, Rockport\, Ma 01966
UID:e.2981.1230
SEQUENCE:3
DTSTAMP:20260419T130357Z
URL:https://visit.rockportusa.com/events/details/ali-jackson-08-13-2014-1230
END:VEVENT

END:VCALENDAR
