BEGIN:VCALENDAR
VERSION:2.0
PRODID:-//ChamberMaster//Event Calendar 2.0//EN
METHOD:PUBLISH
X-PUBLISHED-TTL:P3D
REFRESH-INTERVAL:P3D
CALSCALE:GREGORIAN
BEGIN:VEVENT
DTSTART:20140719T000000Z
DTEND:20140719T000000Z
X-MICROSOFT-CDO-ALLDAYEVENT:FALSE
SUMMARY:Alasdair Fraser & Natalie Haas
DESCRIPTION:Scottish fiddler Alasdair Fraser and cellist Natalie Haas have emerged as one of the most acclaimed purveyors of traditional Celtic music playing today. Fraser\, a two-time Scottish National Fiddle Champion and esteemed long-time veteran of the traditional Celtic music scene\, has been called ''one of the finest fiddle players Scotland has ever produced'' (Scots Magazine). Tickets:$39/$35/$25
X-ALT-DESC;FMTTYPE=text/html:Scottish fiddler Alasdair Fraser and cellist Natalie Haas have emerged as one of the most acclaimed purveyors of traditional Celtic music playing today. Fraser\, a two-time Scottish National Fiddle Champion and esteemed long-time veteran of the traditional Celtic music scene\, has been called ''one of the finest fiddle players Scotland has ever produced'' (Scots Magazine). Tickets:$39/$35/$25
LOCATION:Shalin Liu Performance Center\, Rockport\, Ma 01966
UID:e.2981.1271
SEQUENCE:3
DTSTAMP:20260419T144318Z
URL:https://visit.rockportusa.com/events/details/alasdair-fraser-natalie-haas-07-18-2014-1271
END:VEVENT

END:VCALENDAR
