BEGIN:VCALENDAR
VERSION:2.0
PRODID:-//ChamberMaster//Event Calendar 2.0//EN
METHOD:PUBLISH
X-PUBLISHED-TTL:P3D
REFRESH-INTERVAL:P3D
CALSCALE:GREGORIAN
BEGIN:VEVENT
DTSTART:20140214T223000Z
DTEND:20140214T223000Z
X-MICROSOFT-CDO-ALLDAYEVENT:FALSE
SUMMARY:A Walk into the Sea: Danny Williams and the Warhol Factory
DESCRIPTION:This year for Valentine's Day\, enjoy a romantic dinner in the intimate\, seaside view of the Shalin Liu Performance Center followed by the timeless classic—It Happened One Night. Widely considered one of the first-ever romantic comedies\, 1934's It Happened One Night stars screen legends Clark Gable and Claudette Colbert\, and was directed by Frank Capra. It was also the first film to sweep all five major awards (picture\, director\, actor\, actress\, screenplay) at the Oscars. \n\nThe dinner is a three-course pre-fixe menu catered by Beach Gourmet.\n\n\nMovie Only: $7\n\nDinner & Movie: $80/person\nFor Dinner\, reservations are required.
X-ALT-DESC;FMTTYPE=text/html:This year for Valentine's Day\, enjoy a romantic dinner in the intimate\, seaside view of the Shalin Liu Performance Center followed by the timeless classic—It Happened One Night. Widely considered one of the first-ever romantic comedies\, 1934's It Happened One Night stars screen legends Clark Gable and Claudette Colbert\, and was directed by Frank Capra. It was also the first film to sweep all five major awards (picture\, director\, actor\, actress\, screenplay) at the Oscars. \n\nThe dinner is a three-course pre-fixe menu catered by Beach Gourmet.\n\n\nMovie Only: $7\n\nDinner & Movie: $80/person\nFor Dinner\, reservations are required.\n\n
LOCATION:Shalin Liu Performance Center\, Rockport\, MA 01966 Travelling by Car Rockport is 45 miles from downtown Boston. Drive north on Route 128 (through two rotaries) to the traffic light in Gloucester. At the traffic light\, turn left onto Route 127. Drive 4 miles to Rockport. Continue through “Five Corners” onto Route 127A (Broadway) toward the harbor. It’s a slight vere to the right. At the stop sign at Mt. Pleasant Street (lighthouse in median)\, turn left and then bear left onto Main Street. The Shalin Liu Performance Center is on the right at 37 Main Street. Travelling by Train Rockport is accessible by commuter rail from Boston and other Northshore towns. The commuter rail originates from North Station on the Green line in Boston. The train station is ½ mile walk to the concert hall.
UID:e.2981.1177
SEQUENCE:3
DTSTAMP:20260420T005801Z
URL:https://visit.rockportusa.com/events/details/a-walk-into-the-sea-danny-williams-and-the-warhol-factory-02-14-2014-1177
END:VEVENT

END:VCALENDAR
