BEGIN:VCALENDAR
VERSION:2.0
PRODID:-//ChamberMaster//Event Calendar 2.0//EN
METHOD:PUBLISH
X-PUBLISHED-TTL:P3D
REFRESH-INTERVAL:P3D
CALSCALE:GREGORIAN
BEGIN:VEVENT
DTSTART:20140816T213000Z
DTEND:20140816T213000Z
X-MICROSOFT-CDO-ALLDAYEVENT:FALSE
SUMMARY:''A Taste of Art Auction Event 2014''
DESCRIPTION:A Gala of Great Art\, Great Food\, Great Wine\, Great Fun!  Donated by generous artist members 94 juried\npieces by these acclaimed artists and sculptors will be auctioned.  Offered will be a Wine Raffle of 50 vintage\nbottles of wine comprising an Instant Wine Cellar.  There will be a complimentary Spirits Tasting and Tapas\nTables offered by Duckworth's\, 525 Restaurant\, Latitude 43\, Lobsta Land\, The Studio and The Rudder.\n  Come celebrate this special opportunity to start\, own\, or add spectacular artwork to your collection.
X-ALT-DESC;FMTTYPE=text/html:A Gala of Great Art\, Great Food\, Great Wine\, Great Fun!  Donated by generous artist members 94 juried\npieces by these acclaimed artists and sculptors will be auctioned.  Offered will be a Wine Raffle of 50 vintage\nbottles of wine comprising an Instant Wine Cellar.  There will be a complimentary Spirits Tasting and Tapas\nTables offered by Duckworth's\, 525 Restaurant\, Latitude 43\, Lobsta Land\, The Studio and The Rudder.\n  Come celebrate this special opportunity to start\, own\, or add spectacular artwork to your collection.
LOCATION:11 Pirates Lane\, Gloucester\, MA 01930 North Shore Arts Association\, 11 Pirates Lane\, Gloucester\, MA 01930
UID:e.2981.1470
SEQUENCE:3
DTSTAMP:20260419T144547Z
URL:https://visit.rockportusa.com/events/details/a-taste-of-art-auction-event-2014-08-16-2014-1470
END:VEVENT

END:VCALENDAR
