BEGIN:VCALENDAR
VERSION:2.0
PRODID:-//ChamberMaster//Event Calendar 2.0//EN
METHOD:PUBLISH
X-PUBLISHED-TTL:P3D
REFRESH-INTERVAL:P3D
CALSCALE:GREGORIAN
BEGIN:VEVENT
DTSTART:20140616T230000Z
DTEND:20140616T230000Z
X-MICROSOFT-CDO-ALLDAYEVENT:FALSE
SUMMARY:A Small Family Business\; National Theatre of London HD Broadcast
DESCRIPTION:A riotous exposure of entrepreneurial greed by Olivier Award-winning playwright Alan Ayckbourn (Bedroom Farce\, A Chorus of Disapproval)\, A Small Family Business returns to the National Theatre for the first time since its celebrated premiere in 1987\, when it won the Evening Standard Award for Best New Play Tickets: $22/$15 Students & Seniors/$5 youth
X-ALT-DESC;FMTTYPE=text/html:A riotous exposure of entrepreneurial greed by Olivier Award-winning playwright Alan Ayckbourn (Bedroom Farce\, A Chorus of Disapproval)\, A Small Family Business returns to the National Theatre for the first time since its celebrated premiere in 1987\, when it won the Evening Standard Award for Best New Play Tickets: $22/$15 Students & Seniors/$5 youth
LOCATION:Shalin Liu Performance Center\, Rockport\, Ma 01966
UID:e.2981.1233
SEQUENCE:3
DTSTAMP:20260419T182623Z
URL:https://visit.rockportusa.com/events/details/a-small-family-business-national-theatre-of-london-hd-broadcast-06-16-2014-1233
END:VEVENT

END:VCALENDAR
