BEGIN:VCALENDAR
VERSION:2.0
PRODID:-//ChamberMaster//Event Calendar 2.0//EN
METHOD:PUBLISH
X-PUBLISHED-TTL:P3D
REFRESH-INTERVAL:P3D
CALSCALE:GREGORIAN
BEGIN:VEVENT
DTSTART:20250309T230000Z
DTEND:20250310T010000Z
X-MICROSOFT-CDO-ALLDAYEVENT:FALSE
SUMMARY:A.J. Croce – Heart of The Eternal Tour
DESCRIPTION:A Special Night of Music Celebrating A.J. Croce's music and the timeless songs and stories of his father\, Jim Croce. Don't miss A.J. Croce and his iconic band on their Heart of The Eternal Tour!
X-ALT-DESC;FMTTYPE=text/html:A Special Night of Music Celebrating A.J. Croce&rsquo\;s music and the timeless songs and stories of his father\, Jim Croce. Don&rsquo\;t miss A.J. Croce and his iconic band on their Heart of The Eternal Tour!
LOCATION:The Cabot 286 Cabot St Beverly\, MA 01915
UID:e.2981.35020
SEQUENCE:3
DTSTAMP:20260426T015224Z
URL:https://visit.rockportusa.com/events/details/a-j-croce-heart-of-the-eternal-tour-35020
END:VEVENT

END:VCALENDAR
