BEGIN:VCALENDAR
VERSION:2.0
PRODID:-//ChamberMaster//Event Calendar 2.0//EN
METHOD:PUBLISH
X-PUBLISHED-TTL:P3D
REFRESH-INTERVAL:P3D
CALSCALE:GREGORIAN
BEGIN:VEVENT
DTSTART:20140731T170000Z
DTEND:20140731T170000Z
X-MICROSOFT-CDO-ALLDAYEVENT:FALSE
SUMMARY:4000 Miles
DESCRIPTION:The play looks at how two outsiders find their way in today's world. After suffering a major loss while he was on a cross-country bike trip\, 21 year-old Leo seeks solace from his feisty 91 year-old grandmother Vera in her West Village apartment in New York City. Over the course of a single month\, these unlikely roommates infuriate\, bewilder\, and ultimately reach each other.
X-ALT-DESC;FMTTYPE=text/html:The play looks at how two outsiders find their way in today's world. After suffering a major loss while he was on a cross-country bike trip\, 21 year-old Leo seeks solace from his feisty 91 year-old grandmother Vera in her West Village apartment in New York City. Over the course of a single month\, these unlikely roommates infuriate\, bewilder\, and ultimately reach each other.
LOCATION:267 East Main Street\, Gloucester\, MA 01930 267 East Main Street\, Gloucester MA
UID:e.2981.1304
SEQUENCE:3
DTSTAMP:20260419T162521Z
URL:https://visit.rockportusa.com/events/details/4000-miles-07-31-2014-1304
END:VEVENT

END:VCALENDAR
