BEGIN:VCALENDAR
VERSION:2.0
PRODID:-//ChamberMaster//Event Calendar 2.0//EN
METHOD:PUBLISH
X-PUBLISHED-TTL:P3D
REFRESH-INTERVAL:P3D
CALSCALE:GREGORIAN
BEGIN:VEVENT
DTSTART:20140816T120000Z
DTEND:20140818T010000Z
X-MICROSOFT-CDO-ALLDAYEVENT:FALSE
SUMMARY:3rd Annual Paint Essex and Wet Paint Auction
DESCRIPTION:Paint Essex and the Wet Paint Auction will bring numerous fine artists to Essex to paint the Great Marsh\, Essex River\, antiques\, historic sites and landscape of Essex. Sculptors are welcome to build or donate sculptures to Sunday's auction and 10 photographers may participate. Several antique shop interiors are available for artists too. Space is limited: one artist per participating shop.\n\nA Silent and Live Auction on Sunday of the weekend's paintings\, sculptures and photographs will be held at the Allyn Cox Reservation accompanied by live music by Old Cold Tater\, hors d'oeuvres and a wine reception.\n\nSponsored by Essex Merchants Group. Proceeds go toward an Art Scholarship to be presented in 2015 and toward promoting Essex as a travel destination.\nPaint Essex: Saturday\, August 16\, 2014 from 8 AM - 7 PMWet Paint Auction: Sunday\, August 17\, 2014 from 5:30 - 9 PMFree Artist Demos: Sunday 11 AM - 12 PM & 12:15 - 1:15 PMFree Preview of Art: Sunday 1:30 - 3:30 PMArtist pre-registration requested. $10 per participating artist includes 1 ticket to Sunday's auction. Auction $25 person. Artists register Saturday at Essex Shipbuilding Museum\, 66 Main Street\, Essex\, MA. For more information\, to register or volunteer\, please contact Teri Eramo of Eventide Gallery by email: teri.eventide@gmail.com or call 978-880-8043.
X-ALT-DESC;FMTTYPE=text/html:<p>Paint Essex and the Wet Paint Auction will bring numerous fine artists to Essex to paint the Great Marsh\, Essex River\, antiques\, historic sites and landscape of Essex. Sculptors are welcome to build or donate sculptures to Sunday's auction and 10 photographers may participate. Several antique shop interiors are available for artists too. </p><p>Space is limited: one artist per participating shop.\n\nA Silent and Live Auction on Sunday of the weekend's paintings\, sculptures and photographs will be held at the Allyn Cox Reservation accompanied by live music by Old Cold Tater\, hors d'oeuvres and a wine reception.\n\nSponsored by Essex Merchants Group. Proceeds go toward an Art Scholarship to be presented in 2015 and toward promoting Essex as a travel destination.\n</p><p></p><p><span style="color:#000000\;">Paint Essex: Saturday\, August 16\, 2014 from 8 AM -&nbsp\;7 PM</span></p><p><span style="color:#000000\;">Wet Paint Auction: Sunday\, August 17\, 2014 from 5:30 - 9 PM</span></p><p></p><p><span><span style="color:#000000\;">Free Artist Demos: Sunday 11 AM - 12 PM &amp\; 12:15 - 1:15 PM</span></span></p><p style="margin-bottom:12pt\;"><span><span style="color:#000000\;">Free Preview of Art: Sunday 1:30 - 3:30 PM</span></span></p><p></p><p></p><p>Artist pre-registration requested. $10 per participating&nbsp\;artist includes 1 ticket to Sunday's auction. Auction $25 person. Artists register Saturday at Essex Shipbuilding Museum\, 66 Main Street\, Essex\, MA. For more information\, to register or volunteer\, please contact Teri Eramo of Eventide Gallery by email: teri.eventide@gmail.com or call 978-880-8043.</p>
LOCATION:Greenbelt - Allyn Cox Reservation\, Essex\, MA 01929 Paint Essex will bring numerous artists throughout the town of Essex. Sunday's Wet Paint Auction will be held at the Greenbelt's Allyn Cox Reservation\, 82 Eastern Avenue (Route 133) in Essex\, MA.
UID:e.2981.1381
SEQUENCE:3
DTSTAMP:20260419T131044Z
URL:https://visit.rockportusa.com/events/details/3rd-annual-paint-essex-and-wet-paint-auction-08-16-2014-1381
END:VEVENT

END:VCALENDAR
