BEGIN:VCALENDAR
VERSION:2.0
PRODID:-//ChamberMaster//Event Calendar 2.0//EN
METHOD:PUBLISH
X-PUBLISHED-TTL:P3D
REFRESH-INTERVAL:P3D
CALSCALE:GREGORIAN
BEGIN:VEVENT
DTSTART:20140613T220000Z
DTEND:20140613T220000Z
X-MICROSOFT-CDO-ALLDAYEVENT:FALSE
SUMMARY:25th Annual Art in the Barn Exhibit and Sale
DESCRIPTION:For one weekend every June\, the barns at the Cox Reservation are transformed with color and form as paintings in oil\, acrylic and watercolor\, monoprints\, ceramics and pottery\, and sculpture in wood and iron adorn the walls\, window sills\, tables\, stairs and every nook and cranny of our rustic barns. Come see the diverse work of over 150 talented artists from throughout the region\, inspired by the natural landscapes and light that have drawn artists to Cape Ann and Essex County for decades. You are welcome you to come find that special piece of artwork that completes your living space\, seek out a special gift for a family member or friend\, or simply come to browse. Last year approximately 3\,500 visitors viewed the show.\n\nAdmission: FREE\nParking: $5 per car
X-ALT-DESC;FMTTYPE=text/html:For one weekend every June\, the barns at the Cox Reservation are transformed with color and form as paintings in oil\, acrylic and watercolor\, monoprints\, ceramics and pottery\, and sculpture in wood and iron adorn the walls\, window sills\, tables\, stairs and every nook and cranny of our rustic barns. Come see the diverse work of over 150 talented artists from throughout the region\, inspired by the natural landscapes and light that have drawn artists to Cape Ann and Essex County for decades. You are welcome you to come find that special piece of artwork that completes your living space\, seek out a special gift for a family member or friend\, or simply come to browse. Last year approximately 3\,500 visitors viewed the show.\n\nAdmission: FREE\nParking: $5 per car
LOCATION:82 Eastern Avenue (Route 133)\, Essex\, MA 01929 82 Eastern Avenue (Route 133)
UID:e.2981.1344
SEQUENCE:3
DTSTAMP:20260419T182342Z
URL:https://visit.rockportusa.com/events/details/25th-annual-art-in-the-barn-exhibit-and-sale-06-13-2014-1344
END:VEVENT

END:VCALENDAR
